BEGIN:VCALENDAR
VERSION:2.0
PRODID:-//Climate Clarity - ECPv6.15.12.1//NONSGML v1.0//EN
CALSCALE:GREGORIAN
METHOD:PUBLISH
X-WR-CALNAME:Climate Clarity
X-ORIGINAL-URL:https://climateclarity.co.uk
X-WR-CALDESC:Events for Climate Clarity
REFRESH-INTERVAL;VALUE=DURATION:PT1H
X-Robots-Tag:noindex
X-PUBLISHED-TTL:PT1H
BEGIN:VTIMEZONE
TZID:Europe/London
BEGIN:DAYLIGHT
TZOFFSETFROM:+0000
TZOFFSETTO:+0100
TZNAME:BST
DTSTART:20250330T010000
END:DAYLIGHT
BEGIN:STANDARD
TZOFFSETFROM:+0100
TZOFFSETTO:+0000
TZNAME:GMT
DTSTART:20251026T010000
END:STANDARD
BEGIN:DAYLIGHT
TZOFFSETFROM:+0000
TZOFFSETTO:+0100
TZNAME:BST
DTSTART:20260329T010000
END:DAYLIGHT
BEGIN:STANDARD
TZOFFSETFROM:+0100
TZOFFSETTO:+0000
TZNAME:GMT
DTSTART:20261025T010000
END:STANDARD
BEGIN:DAYLIGHT
TZOFFSETFROM:+0000
TZOFFSETTO:+0100
TZNAME:BST
DTSTART:20270328T010000
END:DAYLIGHT
BEGIN:STANDARD
TZOFFSETFROM:+0100
TZOFFSETTO:+0000
TZNAME:GMT
DTSTART:20271031T010000
END:STANDARD
END:VTIMEZONE
BEGIN:VEVENT
DTSTART;TZID=Europe/London:20260424T093000
DTEND;TZID=Europe/London:20260424T180000
DTSTAMP:20260418T152949
CREATED:20260417T141531Z
LAST-MODIFIED:20260417T141531Z
UID:9022-1777023000-1777053600@climateclarity.co.uk
SUMMARY:Climate Fresk Professional Training
DESCRIPTION:Learn how to deliver the Climate Fresk workshop\nThis professional training will prepare you to run the workshop in organisations and work places.\nThis training is aimed at a professional audience. \nUnlock change in an organisation\nWhen you know how to deliver the Climate Fresk with Climate Clarity\, you will learn how to\n– Design your Climate Fresk to connect with colleagues and clients.\n– Facilitate with confidence and impact.\n– Work with tricky personas who you might find in your workshops. \nLearn from the experts\nClimate Clarity are leading trainers in Climate Fresk and other workshops.\nWe’ve trained 1000s of facilitators and are ready to train you. \nReceive on-going support\nGetting started can be hard.\nWe are here to support you and get you going without delay.\nImportantly\, we offer a coaching and co-facilitating service so you are delivering with impact from day one. \nAny questions? Email ash@climateclarity.co.uk
URL:https://climateclarity.co.uk/event/recaxedqgjlucjogb/
LOCATION:The Fulwood – x+why\, 4 Fulwood Place\, London\, WC1V 6HG
CATEGORIES:Climate Fresk Facilitator Training
ATTACH;FMTTYPE=image/png:https://climateclarity.co.uk/wp-content/uploads/2026/02/Logo-Climate-Fresk-UK_Noir-N-baseline-500x250-no-bg.png
END:VEVENT
END:VCALENDAR