BEGIN:VCALENDAR
VERSION:2.0
PRODID:-//Climate Clarity - ECPv6.15.12.1//NONSGML v1.0//EN
CALSCALE:GREGORIAN
METHOD:PUBLISH
X-WR-CALNAME:Climate Clarity
X-ORIGINAL-URL:https://climateclarity.co.uk
X-WR-CALDESC:Events for Climate Clarity
REFRESH-INTERVAL;VALUE=DURATION:PT1H
X-Robots-Tag:noindex
X-PUBLISHED-TTL:PT1H
BEGIN:VTIMEZONE
TZID:Europe/London
BEGIN:DAYLIGHT
TZOFFSETFROM:+0000
TZOFFSETTO:+0100
TZNAME:BST
DTSTART:20230326T010000
END:DAYLIGHT
BEGIN:STANDARD
TZOFFSETFROM:+0100
TZOFFSETTO:+0000
TZNAME:GMT
DTSTART:20231029T010000
END:STANDARD
BEGIN:DAYLIGHT
TZOFFSETFROM:+0000
TZOFFSETTO:+0100
TZNAME:BST
DTSTART:20240331T010000
END:DAYLIGHT
BEGIN:STANDARD
TZOFFSETFROM:+0100
TZOFFSETTO:+0000
TZNAME:GMT
DTSTART:20241027T010000
END:STANDARD
BEGIN:DAYLIGHT
TZOFFSETFROM:+0000
TZOFFSETTO:+0100
TZNAME:BST
DTSTART:20250330T010000
END:DAYLIGHT
BEGIN:STANDARD
TZOFFSETFROM:+0100
TZOFFSETTO:+0000
TZNAME:GMT
DTSTART:20251026T010000
END:STANDARD
END:VTIMEZONE
BEGIN:VEVENT
DTSTART;TZID=Europe/London:20241024T123000
DTEND;TZID=Europe/London:20241024T143000
DTSTAMP:20260419T144807
CREATED:20241014T145015Z
LAST-MODIFIED:20241014T145015Z
UID:5011-1729773000-1729780200@climateclarity.co.uk
SUMMARY:Freskival: Circular Economy Collage
DESCRIPTION:Part of the Freskival event on the 24th and 25th of October. Sign up for this workshop and as many others as you can fit in two days in central London.
URL:https://climateclarity.co.uk/event/freskival-pm-lcl/
LOCATION:Good Company\, 17-19 Triton St\, London\, NW1 3BF
CATEGORIES:Circular Economy Collage
ATTACH;FMTTYPE=image/png:https://climateclarity.co.uk/wp-content/uploads/2023/05/LOGO_CEC_English.png
END:VEVENT
END:VCALENDAR