BEGIN:VCALENDAR
VERSION:2.0
PRODID:-//Climate Clarity - ECPv6.15.12.1//NONSGML v1.0//EN
CALSCALE:GREGORIAN
METHOD:PUBLISH
X-WR-CALNAME:Climate Clarity
X-ORIGINAL-URL:https://climateclarity.co.uk
X-WR-CALDESC:Events for Climate Clarity
REFRESH-INTERVAL;VALUE=DURATION:PT1H
X-Robots-Tag:noindex
X-PUBLISHED-TTL:PT1H
BEGIN:VTIMEZONE
TZID:Europe/London
BEGIN:DAYLIGHT
TZOFFSETFROM:+0000
TZOFFSETTO:+0100
TZNAME:BST
DTSTART:20240331T010000
END:DAYLIGHT
BEGIN:STANDARD
TZOFFSETFROM:+0100
TZOFFSETTO:+0000
TZNAME:GMT
DTSTART:20241027T010000
END:STANDARD
BEGIN:DAYLIGHT
TZOFFSETFROM:+0000
TZOFFSETTO:+0100
TZNAME:BST
DTSTART:20250330T010000
END:DAYLIGHT
BEGIN:STANDARD
TZOFFSETFROM:+0100
TZOFFSETTO:+0000
TZNAME:GMT
DTSTART:20251026T010000
END:STANDARD
BEGIN:DAYLIGHT
TZOFFSETFROM:+0000
TZOFFSETTO:+0100
TZNAME:BST
DTSTART:20260329T010000
END:DAYLIGHT
BEGIN:STANDARD
TZOFFSETFROM:+0100
TZOFFSETTO:+0000
TZNAME:GMT
DTSTART:20261025T010000
END:STANDARD
END:VTIMEZONE
BEGIN:VEVENT
DTSTART;TZID=Europe/London:20251229T140000
DTEND;TZID=Europe/London:20251229T163000
DTSTAMP:20260420T114848
CREATED:20251229T221337Z
LAST-MODIFIED:20251229T221337Z
UID:8045-1767016800-1767025800@climateclarity.co.uk
SUMMARY:Deep Time Walk
DESCRIPTION:Walk\, make friends and learn!\nExplore the Climate Emergency via a transformative walking experience that leads participants into a profound connection with the natural world.\nThere will be prompted questions and discussions whilst walking in pairs and small groups to explore subjects that are profound and connecting. \nEach step\, 1 million years 👣\nDeep Time Walk is a transformative journey through 4.6 billion years of Earth history via a 4.6 km guided walk. It is an invitation to view the world differently\, encouraging positive action and advocacy for a regenerative Earth. \nUncover the deep history of Earth\nTravel through the birth of life\, 5 mass extinctions\, changing climates and the evolution of everything we know.\nYour facilitator will stop the group along our timeline and add insights about these events for the group. \nConnect with the natural world\nThis walk will have us explore the developments of life and the experience of Deep Time. It is a transformative and humbling experience as you move through the vast expanses of time before human history. \nLogistics\nWe will walk around 7 km: to Northwood House then along to Gurnard\, maybe Gurnard Luck\, before heading back along the seafront to the car park.\nBring appropriate clothes and footwear. There will be periods of standing still and periods of walking. \nCreated by the late Stephen Harding: Ecologist\, Zoologist\nThe Deep Time Walk materials are provided by the Deep Time Walk Project.
URL:https://climateclarity.co.uk/event/deep-time-walk-3/
LOCATION:Mornington Road Longstay Car Park\, 10 Mornington Road\, Cowes\, PO31 8AU
CATEGORIES:Deep Time Walk
ATTACH;FMTTYPE=image/png:https://climateclarity.co.uk/wp-content/uploads/2025/01/DTW-logo.png
END:VEVENT
END:VCALENDAR