BEGIN:VCALENDAR
VERSION:2.0
PRODID:-//Climate Clarity - ECPv6.15.12.1//NONSGML v1.0//EN
CALSCALE:GREGORIAN
METHOD:PUBLISH
X-WR-CALNAME:Climate Clarity
X-ORIGINAL-URL:https://climateclarity.co.uk
X-WR-CALDESC:Events for Climate Clarity
REFRESH-INTERVAL;VALUE=DURATION:PT1H
X-Robots-Tag:noindex
X-PUBLISHED-TTL:PT1H
BEGIN:VTIMEZONE
TZID:Europe/London
BEGIN:DAYLIGHT
TZOFFSETFROM:+0000
TZOFFSETTO:+0100
TZNAME:BST
DTSTART:20240331T010000
END:DAYLIGHT
BEGIN:STANDARD
TZOFFSETFROM:+0100
TZOFFSETTO:+0000
TZNAME:GMT
DTSTART:20241027T010000
END:STANDARD
BEGIN:DAYLIGHT
TZOFFSETFROM:+0000
TZOFFSETTO:+0100
TZNAME:BST
DTSTART:20250330T010000
END:DAYLIGHT
BEGIN:STANDARD
TZOFFSETFROM:+0100
TZOFFSETTO:+0000
TZNAME:GMT
DTSTART:20251026T010000
END:STANDARD
BEGIN:DAYLIGHT
TZOFFSETFROM:+0000
TZOFFSETTO:+0100
TZNAME:BST
DTSTART:20260329T010000
END:DAYLIGHT
BEGIN:STANDARD
TZOFFSETFROM:+0100
TZOFFSETTO:+0000
TZNAME:GMT
DTSTART:20261025T010000
END:STANDARD
END:VTIMEZONE
BEGIN:VEVENT
DTSTART;TZID=Europe/London:20251126T123000
DTEND;TZID=Europe/London:20251126T133000
DTSTAMP:20260418T065308
CREATED:20251027T144331Z
LAST-MODIFIED:20251113T081517Z
UID:7905-1764160200-1764163800@climateclarity.co.uk
SUMMARY:Climate Pitch
DESCRIPTION:The Climate Pitch has been designed to enable as many people as possible to:\n–  Quickly and simply understand the key messages related to climate change\n–  Respond positively\n–  By motivating to engage on a personal\, professional and collective level. \nAn interactive experience open to all\, designed to give people the impetus to take action and strengthen their commitment. \nBased on the IPCC report\nThe Climate Pitch uses the facts and figures from the latest IPCC AR6 report published between 2021 and 2023. \nReconnecting with our role\nThe conference allows everyone to better understand the importance of reconnecting with our emotions and how to bounce back\, all through a very interactive delivery with quiz moments throughout. \nUnderstand what matters\nEvery action counts! Hence the importance of understanding the orders of magnitude and leaving the conference equipped with actions that will make a difference. \nCPD Certified\nYou even can count attending this workshop towards CPD points! \nThis workshop will be delivered online\, so make sure to prepare for this workshop using our online workshop preparation page.
URL:https://climateclarity.co.uk/event/climate-pitch/
LOCATION:Online
ATTACH;FMTTYPE=image/png:https://climateclarity.co.uk/wp-content/uploads/2025/10/Climate-Pitch.png
END:VEVENT
END:VCALENDAR