BEGIN:VCALENDAR
VERSION:2.0
PRODID:-//Climate Clarity - ECPv6.15.12.1//NONSGML v1.0//EN
CALSCALE:GREGORIAN
METHOD:PUBLISH
X-WR-CALNAME:Climate Clarity
X-ORIGINAL-URL:https://climateclarity.co.uk
X-WR-CALDESC:Events for Climate Clarity
REFRESH-INTERVAL;VALUE=DURATION:PT1H
X-Robots-Tag:noindex
X-PUBLISHED-TTL:PT1H
BEGIN:VTIMEZONE
TZID:Europe/London
BEGIN:DAYLIGHT
TZOFFSETFROM:+0000
TZOFFSETTO:+0100
TZNAME:BST
DTSTART:20250330T010000
END:DAYLIGHT
BEGIN:STANDARD
TZOFFSETFROM:+0100
TZOFFSETTO:+0000
TZNAME:GMT
DTSTART:20251026T010000
END:STANDARD
BEGIN:DAYLIGHT
TZOFFSETFROM:+0000
TZOFFSETTO:+0100
TZNAME:BST
DTSTART:20260329T010000
END:DAYLIGHT
BEGIN:STANDARD
TZOFFSETFROM:+0100
TZOFFSETTO:+0000
TZNAME:GMT
DTSTART:20261025T010000
END:STANDARD
BEGIN:DAYLIGHT
TZOFFSETFROM:+0000
TZOFFSETTO:+0100
TZNAME:BST
DTSTART:20270328T010000
END:DAYLIGHT
BEGIN:STANDARD
TZOFFSETFROM:+0100
TZOFFSETTO:+0000
TZNAME:GMT
DTSTART:20271031T010000
END:STANDARD
END:VTIMEZONE
BEGIN:VEVENT
DTSTART;TZID=Europe/London:20260427T180000
DTEND;TZID=Europe/London:20260427T213000
DTSTAMP:20260418T134004
CREATED:20260401T191118Z
LAST-MODIFIED:20260401T191118Z
UID:8982-1777312800-1777325400@climateclarity.co.uk
SUMMARY:Climate Fresk Basic Training
DESCRIPTION:Learn how to deliver the Climate Fresk workshop\nThis basic training will prepare you to run the workshop in your community\, and for family and friends.\nThis training is aimed at a non-professional audience. \nSpread climate knowledge far and wide\nWhen you know how to deliver the Climate Fresk\, you will be able to engage your community\, friends and family with a powerful dose of climate insight.\nYou’ll love facilitating and want to do it time and time again. \nLearn from the experts\nClimate Clarity are leading trainers in Climate Fresk and other workshops.\nWe’ve trained 1000s of facilitators and are ready to train you. \nReceive on-going support\nGetting started can be scary and hard.\nWe are here to support you and get you going without delay. \nNote: If you intend to use the workshop in a professional context\, instead enquire about our longer training that will give you the tools and skills for engaging players within an organisational setting. Email ash@climateclarity.co.uk
URL:https://climateclarity.co.uk/event/climate-fresk-basic-training-8/
LOCATION:1 East Poultry Avenue\, 1 East Poultry Avenue\, London\, EC1A 9PT
CATEGORIES:Climate Fresk Facilitator Training
ATTACH;FMTTYPE=image/png:https://climateclarity.co.uk/wp-content/uploads/2026/02/Logo-Climate-Fresk-UK_Noir-N-baseline-500x250-no-bg.png
END:VEVENT
END:VCALENDAR