BEGIN:VCALENDAR
VERSION:2.0
PRODID:-//Climate Clarity - ECPv6.15.12.1//NONSGML v1.0//EN
CALSCALE:GREGORIAN
METHOD:PUBLISH
X-WR-CALNAME:Climate Clarity
X-ORIGINAL-URL:https://climateclarity.co.uk
X-WR-CALDESC:Events for Climate Clarity
REFRESH-INTERVAL;VALUE=DURATION:PT1H
X-Robots-Tag:noindex
X-PUBLISHED-TTL:PT1H
BEGIN:VTIMEZONE
TZID:Europe/London
BEGIN:DAYLIGHT
TZOFFSETFROM:+0000
TZOFFSETTO:+0100
TZNAME:BST
DTSTART:20240331T010000
END:DAYLIGHT
BEGIN:STANDARD
TZOFFSETFROM:+0100
TZOFFSETTO:+0000
TZNAME:GMT
DTSTART:20241027T010000
END:STANDARD
BEGIN:DAYLIGHT
TZOFFSETFROM:+0000
TZOFFSETTO:+0100
TZNAME:BST
DTSTART:20250330T010000
END:DAYLIGHT
BEGIN:STANDARD
TZOFFSETFROM:+0100
TZOFFSETTO:+0000
TZNAME:GMT
DTSTART:20251026T010000
END:STANDARD
BEGIN:DAYLIGHT
TZOFFSETFROM:+0000
TZOFFSETTO:+0100
TZNAME:BST
DTSTART:20260329T010000
END:DAYLIGHT
BEGIN:STANDARD
TZOFFSETFROM:+0100
TZOFFSETTO:+0000
TZNAME:GMT
DTSTART:20261025T010000
END:STANDARD
END:VTIMEZONE
BEGIN:VEVENT
DTSTART;TZID=Europe/London:20251124T130000
DTEND;TZID=Europe/London:20251124T160000
DTSTAMP:20260420T061119
CREATED:20250922T101918Z
LAST-MODIFIED:20251015T120234Z
UID:5529-1763989200-1764000000@climateclarity.co.uk
SUMMARY:Circular Economy Collage workshop
DESCRIPTION:Understand the Linear and the Circular Economy. What are the problems and solutions. Let’s chart a course for circularity! \nThis workshop will be delivered online\, so make sure to prepare for this workshop using our online workshop preparation page.
URL:https://climateclarity.co.uk/event/circular-economy-collage-workshop-3/
LOCATION:Online
CATEGORIES:Circular Economy Collage
ATTACH;FMTTYPE=image/png:https://climateclarity.co.uk/wp-content/uploads/2025/10/Circular-Economy-Collage.png
END:VEVENT
END:VCALENDAR