BEGIN:VCALENDAR
VERSION:2.0
PRODID:-//Climate Clarity - ECPv6.15.12.1//NONSGML v1.0//EN
CALSCALE:GREGORIAN
METHOD:PUBLISH
X-WR-CALNAME:Climate Clarity
X-ORIGINAL-URL:https://climateclarity.co.uk
X-WR-CALDESC:Events for Climate Clarity
REFRESH-INTERVAL;VALUE=DURATION:PT1H
X-Robots-Tag:noindex
X-PUBLISHED-TTL:PT1H
BEGIN:VTIMEZONE
TZID:Europe/London
BEGIN:DAYLIGHT
TZOFFSETFROM:+0000
TZOFFSETTO:+0100
TZNAME:BST
DTSTART:20240331T010000
END:DAYLIGHT
BEGIN:STANDARD
TZOFFSETFROM:+0100
TZOFFSETTO:+0000
TZNAME:GMT
DTSTART:20241027T010000
END:STANDARD
BEGIN:DAYLIGHT
TZOFFSETFROM:+0000
TZOFFSETTO:+0100
TZNAME:BST
DTSTART:20250330T010000
END:DAYLIGHT
BEGIN:STANDARD
TZOFFSETFROM:+0100
TZOFFSETTO:+0000
TZNAME:GMT
DTSTART:20251026T010000
END:STANDARD
BEGIN:DAYLIGHT
TZOFFSETFROM:+0000
TZOFFSETTO:+0100
TZNAME:BST
DTSTART:20260329T010000
END:DAYLIGHT
BEGIN:STANDARD
TZOFFSETFROM:+0100
TZOFFSETTO:+0000
TZNAME:GMT
DTSTART:20261025T010000
END:STANDARD
END:VTIMEZONE
BEGIN:VEVENT
DTSTART;TZID=Europe/London:20251009T130000
DTEND;TZID=Europe/London:20251009T160000
DTSTAMP:20260420T061227
CREATED:20251010T083106Z
LAST-MODIFIED:20251010T083106Z
UID:7564-1760014800-1760025600@climateclarity.co.uk
SUMMARY:Biodiversity Collage
DESCRIPTION:Nature is at the heart of everything\nLearn and share your experiences of how nature supports and provides for itself\, including for humanity. \nUnderstand the scientific concepts\nThis workshop communicates the science of the IPBES and role of the Global Biodiversity Framework. You will learn concepts like:\n🦉 What are ecosystem services\n🦉 The 3 pillars of biodiversity\n🦉 The 5 direct drivers of biodiversity loss\n🦉 What are the indirect drivers of biodiversity loss\n🦉 Resilience and adaptation\n🦉 The dynamics of how ecosystems respond to disturbances \nMeasure up the nature crisis\nBiodiversity loss gets far less attention than the climate crisis. We are looking to help you re-address that. \nA fun\, card game\nThis workshop\, like a Climate Fresk but about nature\, will explore all these concepts while working in teams to share knowledge and work out the issues together.\nYou will be amazed by your team-mates and yourself. \nClimate and Nature action work together\nGet a power-boost by learning about the synergistic nature of climate and nature action. 🌡️+🐛\nSo join us today! \nThis workshop will be delivered online\, so make sure to prepare for this workshop using our online workshop preparation page.
URL:https://climateclarity.co.uk/event/biodiversity-collage-6/
LOCATION:Online
CATEGORIES:Biodiversity Collage
ATTACH;FMTTYPE=image/webp:https://climateclarity.co.uk/wp-content/uploads/2024/02/biodiverstiry-collage-logo-transparent.webp
END:VEVENT
END:VCALENDAR