BEGIN:VCALENDAR
VERSION:2.0
PRODID:-//Climate Clarity - ECPv6.15.12.1//NONSGML v1.0//EN
CALSCALE:GREGORIAN
METHOD:PUBLISH
X-WR-CALNAME:Climate Clarity
X-ORIGINAL-URL:https://climateclarity.co.uk
X-WR-CALDESC:Events for Climate Clarity
REFRESH-INTERVAL;VALUE=DURATION:PT1H
X-Robots-Tag:noindex
X-PUBLISHED-TTL:PT1H
BEGIN:VTIMEZONE
TZID:Europe/London
BEGIN:DAYLIGHT
TZOFFSETFROM:+0000
TZOFFSETTO:+0100
TZNAME:BST
DTSTART:20250330T010000
END:DAYLIGHT
BEGIN:STANDARD
TZOFFSETFROM:+0100
TZOFFSETTO:+0000
TZNAME:GMT
DTSTART:20251026T010000
END:STANDARD
BEGIN:DAYLIGHT
TZOFFSETFROM:+0000
TZOFFSETTO:+0100
TZNAME:BST
DTSTART:20260329T010000
END:DAYLIGHT
BEGIN:STANDARD
TZOFFSETFROM:+0100
TZOFFSETTO:+0000
TZNAME:GMT
DTSTART:20261025T010000
END:STANDARD
BEGIN:DAYLIGHT
TZOFFSETFROM:+0000
TZOFFSETTO:+0100
TZNAME:BST
DTSTART:20270328T010000
END:DAYLIGHT
BEGIN:STANDARD
TZOFFSETFROM:+0100
TZOFFSETTO:+0000
TZNAME:GMT
DTSTART:20271031T010000
END:STANDARD
END:VTIMEZONE
BEGIN:VEVENT
DTSTART;TZID=Europe/London:20260425T150000
DTEND;TZID=Europe/London:20260425T180000
DTSTAMP:20260418T151349
CREATED:20260320T181819Z
LAST-MODIFIED:20260320T182112Z
UID:8922-1777129200-1777140000@climateclarity.co.uk
SUMMARY:2tonnes workshop
DESCRIPTION:2tonnes: an ambitious challenge!\n\n\n2 tons of CO2 equivalent\, this is the average carbon footprint per capita that we should reach in 2050\, in order to respect the commitment of the Paris Agreement.Today\, we are around 6.8 tons on average in the world. The challenge to be taken up is therefore considerable! Changes and a real transition are both required.But there’s more to life than just carbon! What if this ambitious challenge was the opportunity to resolve other ecological and social issues\, to create a more fulfilled and fairer society?Easy to say\, but how to do it? And what role can we play exactly?2tonnes is the workshop that allows everyone to provide their own answer!
URL:https://climateclarity.co.uk/event/2tonnes/
LOCATION:1 East Poultry Avenue\, 1 East Poultry Avenue\, London\, EC1A 9PT
CATEGORIES:2tonnes
ATTACH;FMTTYPE=image/png:https://climateclarity.co.uk/wp-content/uploads/2026/03/2tonnes-logo-—-full-with-transparent-background-500x250-1.png
END:VEVENT
END:VCALENDAR